BEGIN:VCALENDAR
VERSION:2.0
PRODID:-//Burgdorfer Motorsportclub e.V. - ECPv5.1.6//NONSGML v1.0//EN
CALSCALE:GREGORIAN
METHOD:PUBLISH
X-WR-CALNAME:Burgdorfer Motorsportclub e.V.
X-ORIGINAL-URL:https://burgdorfer-mc.de
X-WR-CALDESC:Veranstaltungen für Burgdorfer Motorsportclub e.V.
BEGIN:VTIMEZONE
TZID:Europe/Paris
BEGIN:DAYLIGHT
TZOFFSETFROM:+0100
TZOFFSETTO:+0200
TZNAME:CEST
DTSTART:20260329T010000
END:DAYLIGHT
BEGIN:STANDARD
TZOFFSETFROM:+0200
TZOFFSETTO:+0100
TZNAME:CET
DTSTART:20261025T010000
END:STANDARD
END:VTIMEZONE
BEGIN:VEVENT
DTSTART;TZID=Europe/Paris:20260807T200000
DTEND;TZID=Europe/Paris:20260807T220000
DTSTAMP:20260421T153613
CREATED:20260111T114959Z
LAST-MODIFIED:20260111T114959Z
UID:1944-1786132800-1786140000@burgdorfer-mc.de
SUMMARY:August Clubabend
DESCRIPTION:unser Clubabend\nfindet am Freitag statt. \nallerdings nicht immer\nam 1. Freitag des Monats. \nbitte Info über unsere Internetseite beachten \nwww.burgdorfer-mc.de \nGäste sind herzlich willkommen \nUnser Clublokal ist in \n HAASES Gasthaus „ZUR ERHOLUNG“ \nin 31303 Burgdorf\, Lehrter Str. 12 \nbitte auch die nächsten Termine auf unserer\nInternet Seite prüfen. \nDer Vorstand
URL:https://burgdorfer-mc.de/event/august-clubabend-2/
LOCATION:Haases Gasthaus\, Lehrter Straße 12\, Burgdorf\, 31303
END:VEVENT
END:VCALENDAR