BEGIN:VCALENDAR
VERSION:2.0
PRODID:-//Burgdorfer Motorsportclub e.V. - ECPv5.1.6//NONSGML v1.0//EN
CALSCALE:GREGORIAN
METHOD:PUBLISH
X-WR-CALNAME:Burgdorfer Motorsportclub e.V.
X-ORIGINAL-URL:http://burgdorfer-mc.de
X-WR-CALDESC:Veranstaltungen für Burgdorfer Motorsportclub e.V.
BEGIN:VTIMEZONE
TZID:Europe/Paris
BEGIN:DAYLIGHT
TZOFFSETFROM:+0100
TZOFFSETTO:+0200
TZNAME:CEST
DTSTART:20240331T010000
END:DAYLIGHT
BEGIN:STANDARD
TZOFFSETFROM:+0200
TZOFFSETTO:+0100
TZNAME:CET
DTSTART:20241027T010000
END:STANDARD
END:VTIMEZONE
BEGIN:VEVENT
DTSTART;TZID=Europe/Paris:20240623T110000
DTEND;TZID=Europe/Paris:20240623T170000
DTSTAMP:20260422T074010
CREATED:20240122T095611Z
LAST-MODIFIED:20240614T233026Z
UID:1496-1719140400-1719162000@burgdorfer-mc.de
SUMMARY:Wanderung mit Spargelessen
DESCRIPTION:Wanderung und anschließendem Spargelessen mit Karl-Heinz Piepenbrink \n\n\n\nNachdem unser Clublokal am geplanten Termin dem 23. 06. 2024 schon den ersten Urlaubstag hat\, hab ich mich nach einer anderen Einkehrmöglichkeit umgeschaut. \n\n\n\nund gefunden……….. wir werden  uns am 23.06.2024 diesmal in Isernhagen HB im Cafe – Restaurant  „mittendrin“ bewirten lassen. \n\n\n\nAber auch hier bekommen wir erst ab 13:00 unser Essen. Es wollen ja wohl noch andere an den letzten Spargeltagen das leckere Gemüse verzehren. \n\n\n\nUnser Gericht wird aus  Spargel\, Schnitzel\, Schinken\, Rührei bestehen und zu einem Betrag von 26\,90 € serviert. \n\n\n\nWir werden uns natürlich vorher zum obligatorischen Spaziergang um 10:30 Uhr auf dem Restaurant Parkplatz treffen. Der Spaziergang wird ca. 4\,5 km lang sein und etwa 1:50 Std dauern \n\n\n\nAuch zu dieser Veranstaltung sind Gäste gern gesehen \n\n\n\nFragen beantwortet Karl-Heinz unter 0177 552 554 2
URL:http://burgdorfer-mc.de/event/wanderung-mit-spargelessen/
LOCATION:St. Marien Kirche Isernhagen\, Dorfstraße 71\, 30916 Isernhagen\, 30916
END:VEVENT
END:VCALENDAR