BEGIN:VCALENDAR
VERSION:2.0
PRODID:-//Burgdorfer Motorsportclub e.V. - ECPv5.1.6//NONSGML v1.0//EN
CALSCALE:GREGORIAN
METHOD:PUBLISH
X-WR-CALNAME:Burgdorfer Motorsportclub e.V.
X-ORIGINAL-URL:http://burgdorfer-mc.de
X-WR-CALDESC:Veranstaltungen für Burgdorfer Motorsportclub e.V.
BEGIN:VTIMEZONE
TZID:Europe/Paris
BEGIN:DAYLIGHT
TZOFFSETFROM:+0100
TZOFFSETTO:+0200
TZNAME:CEST
DTSTART:20240331T010000
END:DAYLIGHT
BEGIN:STANDARD
TZOFFSETFROM:+0200
TZOFFSETTO:+0100
TZNAME:CET
DTSTART:20241027T010000
END:STANDARD
END:VTIMEZONE
BEGIN:VEVENT
DTSTART;TZID=Europe/Paris:20240802T180000
DTEND;TZID=Europe/Paris:20240802T210000
DTSTAMP:20260422T022544
CREATED:20240122T094408Z
LAST-MODIFIED:20240614T233306Z
UID:1480-1722621600-1722632400@burgdorfer-mc.de
SUMMARY:18:00 August Clubabend heute in Arpke
DESCRIPTION:Einladung zum August-Clubabend bei Familie Bode!\n\nLiebe Clubmitglieder\,\nunser Clublokal macht eine sechswöchige Sommerpause\, vom 23.Juni-.August\n2024.\nAus diesem Grund findet auch in diesem Jahr ein Clubabend unter freiem Himmel\nbei Familie Bode in Arpke statt. Termin: Freitag\, 02.August 2024\, 18:00 Uhr.\nEs wird wieder Fleischkäse im Brötchen geben\, dazu Salat und diverse\nKaltgetränke. Auch für Kaffee wird sicherlich gesorgt.\nWie immer\, bitte ich um verbindliche Anmeldung am Juni Clubabend. \nDie Anmeldung kann erfolgen bei Anja Bode\, Tel. 0171-2122973 oder 05175-2589\,\nAnruf oder SMS / Whatsapp.\nMit motorsportlichen Gruß\nDer Vorstand
URL:http://burgdorfer-mc.de/event/juli-clubabend-heute-nicht-im-clublokal/
LOCATION:Arpke Bode\, Lehrte Arpke\, 31275\, Deutschland
END:VEVENT
END:VCALENDAR