BEGIN:VCALENDAR
VERSION:2.0
PRODID:-//Burgdorfer Motorsportclub e.V. - ECPv5.1.6//NONSGML v1.0//EN
CALSCALE:GREGORIAN
METHOD:PUBLISH
X-WR-CALNAME:Burgdorfer Motorsportclub e.V.
X-ORIGINAL-URL:http://burgdorfer-mc.de
X-WR-CALDESC:Veranstaltungen für Burgdorfer Motorsportclub e.V.
BEGIN:VTIMEZONE
TZID:Europe/Paris
BEGIN:DAYLIGHT
TZOFFSETFROM:+0100
TZOFFSETTO:+0200
TZNAME:CEST
DTSTART:20240331T010000
END:DAYLIGHT
BEGIN:STANDARD
TZOFFSETFROM:+0200
TZOFFSETTO:+0100
TZNAME:CET
DTSTART:20241027T010000
END:STANDARD
END:VTIMEZONE
BEGIN:VEVENT
DTSTART;TZID=Europe/Paris:20240610T073000
DTEND;TZID=Europe/Paris:20240610T120000
DTSTAMP:20260422T111731
CREATED:20240502T082141Z
LAST-MODIFIED:20240502T082141Z
UID:1619-1718004600-1718020800@burgdorfer-mc.de
SUMMARY:Fahrradtraining Ehlershausen
DESCRIPTION:Hallo liebe Helferinnen und Helfer bei den Schulturnieren\, \nFolgende Termine stehen fest: \n06.05.2024 Grundschule 31311 Uetze\, Katenser Weg 7 \n13.05.2024 Grundschule 31311 Eltze\, Welle 1 \n23.05.2024 Astrid-Lindgren-Grundschule\, 31303 Burgdorf\, Lippoldstr.10 \n30.05.2024 Aueschule in Aligse / Steinwedel\, 31275 Lehrte\, Peiner Heerstr. 12 \n03.06.2024 Grundschule am Storchennest\, Hänigsen\, 31311 Uetze\,          Moorgartenweg 1 \n10.06.2024 Waldschule\, Burgdorf – Ehlershausen\, 31303 Burgdorf\, Waldstr. 4 \nIm Anhang findet Ihr eine Übersicht\, für welche Veranstaltungen Ihr Euch eingetragen habt sowie die Adressen der Schulen fürs Navi und die Kontaktdaten. \nWie bisher sollten die Helferinnen und Helfer jeweils um 7:30 Uhr an der Schule sein\, damit der Aufbau bis zum Schulbeginn um 8:00 Uhr fertig ist. \nSollten noch Fragen offen sein\, ruft mich doch bitte an. \nMit freundlichen Grüßen \nRuth Krüger
URL:http://burgdorfer-mc.de/event/fahrradtraining-ehlershausen-2/
LOCATION:GS Ehlershausen\, Waldstr 4\, Ehlershausen\, 31303
END:VEVENT
END:VCALENDAR