BEGIN:VCALENDAR
VERSION:2.0
PRODID:-//Burgdorfer Motorsportclub e.V. - ECPv5.1.6//NONSGML v1.0//EN
CALSCALE:GREGORIAN
METHOD:PUBLISH
X-WR-CALNAME:Burgdorfer Motorsportclub e.V.
X-ORIGINAL-URL:http://burgdorfer-mc.de
X-WR-CALDESC:Veranstaltungen für Burgdorfer Motorsportclub e.V.
BEGIN:VTIMEZONE
TZID:Europe/Paris
BEGIN:DAYLIGHT
TZOFFSETFROM:+0100
TZOFFSETTO:+0200
TZNAME:CEST
DTSTART:20240331T010000
END:DAYLIGHT
BEGIN:STANDARD
TZOFFSETFROM:+0200
TZOFFSETTO:+0100
TZNAME:CET
DTSTART:20241027T010000
END:STANDARD
END:VTIMEZONE
BEGIN:VEVENT
DTSTART;TZID=Europe/Paris:20240901T100000
DTEND;TZID=Europe/Paris:20240901T170000
DTSTAMP:20260422T003633
CREATED:20240122T095421Z
LAST-MODIFIED:20240828T223408Z
UID:1494-1725184800-1725210000@burgdorfer-mc.de
SUMMARY:BMC Radtour Achtung Terminänderung
DESCRIPTION:Radtour mit Friedhelm \n\n\nRadtour: Sonntag 01.09.24\nStart um 10.00 Uhr bei Familie Naujoks in Krätze.\nZiel:\nHöfener Maislabyrinth\, Höfen 1\, 38536 Meinersen\, ca 11.00 Uhr\,  Eintritt 7 € Picknick-Sachen und Getränke mitbringen.\nKaffee trinken um 14:30 Uhr im Bauernhofcafe Buchholz\, Unter den Eichen 6\, 38536 Meinersen.\nca. 39 km
URL:http://burgdorfer-mc.de/event/bmc-radtour/
END:VEVENT
END:VCALENDAR