BEGIN:VCALENDAR
VERSION:2.0
PRODID:-//Burgdorfer Motorsportclub e.V. - ECPv5.1.6//NONSGML v1.0//EN
CALSCALE:GREGORIAN
METHOD:PUBLISH
X-WR-CALNAME:Burgdorfer Motorsportclub e.V.
X-ORIGINAL-URL:http://burgdorfer-mc.de
X-WR-CALDESC:Veranstaltungen für Burgdorfer Motorsportclub e.V.
BEGIN:VTIMEZONE
TZID:Europe/Paris
BEGIN:DAYLIGHT
TZOFFSETFROM:+0100
TZOFFSETTO:+0200
TZNAME:CEST
DTSTART:20240331T010000
END:DAYLIGHT
BEGIN:STANDARD
TZOFFSETFROM:+0200
TZOFFSETTO:+0100
TZNAME:CET
DTSTART:20241027T010000
END:STANDARD
END:VTIMEZONE
BEGIN:VEVENT
DTSTART;TZID=Europe/Paris:20240614T200000
DTEND;TZID=Europe/Paris:20240614T220000
DTSTAMP:20260422T092805
CREATED:20231011T114551Z
LAST-MODIFIED:20240606T111323Z
UID:1426-1718395200-1718402400@burgdorfer-mc.de
SUMMARY:Achtung Juni Clubabend erst am 2. Freitag heute mit RA R. Zach
DESCRIPTION:nachdem der letzte geplante Termin ausfallen musste\, haben wir einen neuen Termin abgesprochen…..und der ist heute \nTerminankündigung \n  \nClubabend des Burgdorfer Motorsport – Club\nheute mit ADAC Syndikus Herr R. Zach \nAm 14. Juni 2024 um 20:00  Uhr \nIm Clublokal „Haases Gasthaus“\nLehrter Str. 12\, 31303 Burgdorf \nHeute wird uns\, wie schon seit vielen Jahren  \nder bekannte Burgdorfer Rechtsanwalt und ADAC Syndikus Rüdiger Zach besuchen. \n \nWir können uns wieder auf die neuesten Informationen aus dem Straßen Verkehrsgeschehen freuen.  \nGeplant sind folgende Themen:\nNeuerungen im Bußgeld- Katalog\,\ndie neuesten Informationen und Erkenntnisse über den probeweisen Umbau der Marktstraße\, \nNeues und Rechtsprechung im Umgang mit Cannabis im Straßenverkehr\, \nNeues bei den Goslarer Verkehrstagen \n  \nIhr könnt euch wieder auf einen interessanten und informativen Clubabend freuen. \nAuch zu dieser Veranstaltung sind Gäste gern gesehen \n  \n  \nunser Clubabend\nfindet am Freitag um 20:00 Uhr statt\, \nallerdings nicht immer\nam 1. Freitag des Monats.\nEs können auch mal 2 Clubabende im Monat sein.\nDafür im darauf folgenden Monat kein Clubabend. \nGäste sind gern hierzu eingeladen. \nUnser Clublokal ist in \n HAASES Gasthaus „ZUR ERHOLUNG“ \nin 31303 Burgdorf\, Lehrter Str. 12 \nbitte auch die nächsten Termine auf unserer\nInternet Seite prüfen. \nDer Vorstand
URL:http://burgdorfer-mc.de/event/achtung-juni-clubabend-erst-am-2-freitag/
LOCATION:Haases Gasthaus\, Lehrter Straße 12\, Burgdorf\, 31303
END:VEVENT
END:VCALENDAR